BEGIN:VCALENDAR
VERSION:2.0
PRODID:-//Loisaida Inc. - ECPv6.15.20//NONSGML v1.0//EN
CALSCALE:GREGORIAN
METHOD:PUBLISH
X-ORIGINAL-URL:https://loisaida.org
X-WR-CALDESC:Events for Loisaida Inc.
REFRESH-INTERVAL;VALUE=DURATION:PT1H
X-Robots-Tag:noindex
X-PUBLISHED-TTL:PT1H
BEGIN:VTIMEZONE
TZID:UTC
BEGIN:STANDARD
TZOFFSETFROM:+0000
TZOFFSETTO:+0000
TZNAME:UTC
DTSTART:20160101T000000
END:STANDARD
END:VTIMEZONE
BEGIN:VEVENT
DTSTART;TZID=UTC:20170930T180000
DTEND;TZID=UTC:20170930T235500
DTSTAMP:20260421T095754
CREATED:20170929T220022Z
LAST-MODIFIED:20180713T162746Z
UID:10000327-1506794400-1506815700@loisaida.org
SUMMARY:AbrazARTE: A Benefit for Puerto Rico
DESCRIPTION:The Loisaida\, Inc. Center presents\, AbrazARTE at Teatro LATEA. Fundraiser to help people affected by #hurricaneMaria in #PR and in solidarity with the evento Verde Luz artistic movement. \nAbrazARTE is proud to present a showcase between local and international artists who love Puerto Rico and its people. \nPlease join us on Saturday to raise funds by those gravely affected. We will present an art auction\, theater\, poetry\, and music\, with ongoing projections of performances from the Puerto Rican Diaspora from all over the world. \nComplementary food & drink by Port Morris Distillery from 6-7pm. \nWe are partnering with Eco Kit Puerto Rico\, an ecological platform for responsible relief donations that respond to the island’s geography\, weather conditions\, contamination\, waste management \, and infrastructure. Funds will be added to the DonatePuertoRico.com which ensures us that 100{d189f1124ffa6975f5923217354196c41f30852329af055ade71c436dc0b2403} of ALL donations will go directly to victims of this hurricane and the legitimate grassroots efforts and organizations we have identified. \nLIVE MUSIC BY:\nFlaco Navaja and the Razorblades\nBuscabulla\nFernandito Ferrer\nD’Marquesina \nPARTICIPATING PERFORMERS:\nTeatro 220\nEdwin Torres\nUrayoan Noel\nPeggy Robles-Alvarado\nBonafide Rojas\nBob Holman\nTeresa Martinez\nColectivo\nJune Bug Basura & Papo Cucaracha Vertedero\nRedi Dance Co\nNatalie Nazario\nEva Cristina Vazquez\nNicole Cecilia \nVISUAL ARTISTS:\nZule Alejandro\nJuan Bautista Climent\nCoco144\nPepe Coronado\nCoronado Print Studio\nCybil Vladimir Charlier\nSofia Shaula del Rio\nGiacinta Frisillo\nJonas Hidalgo\nLeslie Jimenez\nRejin Leys\nFernando Ruiz Lorenzo\nCarlos Jesus Martinez\nZahyde Pietri\nBonafide Rojas\nJuan Sanchez\nErick Sanchez\nSebastian Vallejo \nand many more \nThanks to co-sponsors: Acacia Network\, Port Morris Distillery\, Casa Adela\, ABC Beer Company\, Suffolk Arms\, Greenwich Village Society for Historic Preservation\, FABNYC\, and more!
URL:https://loisaida.org/event/abrazarte-a-benefit-for-puerto-rico/
LOCATION:Teatro LaTEA\, 107 Suffolk Street\, New York\, NY\, 10002\, United States
END:VEVENT
END:VCALENDAR