BEGIN:VCALENDAR
VERSION:2.0
PRODID:-//Loisaida Inc. - ECPv6.15.20//NONSGML v1.0//EN
CALSCALE:GREGORIAN
METHOD:PUBLISH
X-ORIGINAL-URL:https://loisaida.org
X-WR-CALDESC:Events for Loisaida Inc.
REFRESH-INTERVAL;VALUE=DURATION:PT1H
X-Robots-Tag:noindex
X-PUBLISHED-TTL:PT1H
BEGIN:VTIMEZONE
TZID:America/New_York
BEGIN:DAYLIGHT
TZOFFSETFROM:-0500
TZOFFSETTO:-0400
TZNAME:EDT
DTSTART:20230312T070000
END:DAYLIGHT
BEGIN:STANDARD
TZOFFSETFROM:-0400
TZOFFSETTO:-0500
TZNAME:EST
DTSTART:20231105T060000
END:STANDARD
BEGIN:DAYLIGHT
TZOFFSETFROM:-0500
TZOFFSETTO:-0400
TZNAME:EDT
DTSTART:20240310T070000
END:DAYLIGHT
BEGIN:STANDARD
TZOFFSETFROM:-0400
TZOFFSETTO:-0500
TZNAME:EST
DTSTART:20241103T060000
END:STANDARD
BEGIN:DAYLIGHT
TZOFFSETFROM:-0500
TZOFFSETTO:-0400
TZNAME:EDT
DTSTART:20250309T070000
END:DAYLIGHT
BEGIN:STANDARD
TZOFFSETFROM:-0400
TZOFFSETTO:-0500
TZNAME:EST
DTSTART:20251102T060000
END:STANDARD
END:VTIMEZONE
BEGIN:VEVENT
DTSTART;TZID=America/New_York:20241125T100000
DTEND;TZID=America/New_York:20241125T180000
DTSTAMP:20260420T191505
CREATED:20241118T170827Z
LAST-MODIFIED:20241121T175651Z
UID:10000651-1732528800-1732557600@loisaida.org
SUMMARY:Annual Loisaida Turkey Drive (2024)
DESCRIPTION:Loisaida Center’s Annual Turkey Drive\nNovember 25 (Monday)\, 2024\nPresented by Assemblyman Harvey Epstein and Funded by the Hispanic Federation’s UPLift Initiative\nAddress: 710 E 9th Street\, New York\, NY 10009 \nLoisaida Inc. Center\, together with The Office of New York State Assembly Member Harvey Epstein (NYS Assembly District 74) and the Hispanic Federation’s UPLift Initiative\, will again host the Annual Loisaida Thanksgiving Turkey Drive and Food Giveaway Event\, in its 5th iteration. The event is scheduled for Monday\, November 25th\, 2024. With the help of our sponsors and partners\, we are providing turkeys and non-perishable food items for families in need who are residing in our diverse neighborhoods.
URL:https://loisaida.org/event/annual-loisaida-turkey-drive-2024/
CATEGORIES:2024
ATTACH;FMTTYPE=image/png:https://loisaida.org/wp-content/uploads/2024/11/Latest-2024-Loisaida-Turkey-Drive-Flyer-1.png
END:VEVENT
END:VCALENDAR