BEGIN:VCALENDAR
VERSION:2.0
PRODID:-//Loisaida Inc. - ECPv6.15.20//NONSGML v1.0//EN
CALSCALE:GREGORIAN
METHOD:PUBLISH
X-WR-CALNAME:Loisaida Inc.
X-ORIGINAL-URL:https://loisaida.org
X-WR-CALDESC:Events for Loisaida Inc.
REFRESH-INTERVAL;VALUE=DURATION:PT1H
X-Robots-Tag:noindex
X-PUBLISHED-TTL:PT1H
BEGIN:VTIMEZONE
TZID:America/New_York
BEGIN:DAYLIGHT
TZOFFSETFROM:-0500
TZOFFSETTO:-0400
TZNAME:EDT
DTSTART:20230312T070000
END:DAYLIGHT
BEGIN:STANDARD
TZOFFSETFROM:-0400
TZOFFSETTO:-0500
TZNAME:EST
DTSTART:20231105T060000
END:STANDARD
BEGIN:DAYLIGHT
TZOFFSETFROM:-0500
TZOFFSETTO:-0400
TZNAME:EDT
DTSTART:20240310T070000
END:DAYLIGHT
BEGIN:STANDARD
TZOFFSETFROM:-0400
TZOFFSETTO:-0500
TZNAME:EST
DTSTART:20241103T060000
END:STANDARD
BEGIN:DAYLIGHT
TZOFFSETFROM:-0500
TZOFFSETTO:-0400
TZNAME:EDT
DTSTART:20250309T070000
END:DAYLIGHT
BEGIN:STANDARD
TZOFFSETFROM:-0400
TZOFFSETTO:-0500
TZNAME:EST
DTSTART:20251102T060000
END:STANDARD
END:VTIMEZONE
BEGIN:VEVENT
DTSTART;TZID=America/New_York:20240515T170000
DTEND;TZID=America/New_York:20240515T190000
DTSTAMP:20260423T163951
CREATED:20240507T164022Z
LAST-MODIFIED:20240507T170529Z
UID:10000585-1715792400-1715799600@loisaida.org
SUMMARY:Taste of Lower East Side
DESCRIPTION:Come experience the Taste of Lower East Side\, an event organized by the Grand Street Settlement! \nThis is the 22nd anniversary of the event\, and Raul Russi and Acacia Network will be honored for their commitment to the arts\, culture\, and families on the Lower East Side. \nThis year\, Taste of the Lower East Side will bring together dozens of your favorite Lower East Side restaurants in support of the mission at Grand St. Settlement. \n  \nWhere: Skylight at Essex Crossing (One Essex Crossing\, 202 Broome St\, New York\, NY) \nWhen: Wednesday\, May 15th\, 2024\, 6 – 7 pm \nLink for More Info \nTicket Link
URL:https://loisaida.org/event/taste-of-lower-east-side/
CATEGORIES:2024,fundraiser
END:VEVENT
END:VCALENDAR