BEGIN:VCALENDAR
VERSION:2.0
PRODID:-//Loisaida Inc. - ECPv6.15.20//NONSGML v1.0//EN
CALSCALE:GREGORIAN
METHOD:PUBLISH
X-WR-CALNAME:Loisaida Inc.
X-ORIGINAL-URL:https://loisaida.org
X-WR-CALDESC:Events for Loisaida Inc.
REFRESH-INTERVAL;VALUE=DURATION:PT1H
X-Robots-Tag:noindex
X-PUBLISHED-TTL:PT1H
BEGIN:VTIMEZONE
TZID:America/New_York
BEGIN:DAYLIGHT
TZOFFSETFROM:-0500
TZOFFSETTO:-0400
TZNAME:EDT
DTSTART:20230312T070000
END:DAYLIGHT
BEGIN:STANDARD
TZOFFSETFROM:-0400
TZOFFSETTO:-0500
TZNAME:EST
DTSTART:20231105T060000
END:STANDARD
BEGIN:DAYLIGHT
TZOFFSETFROM:-0500
TZOFFSETTO:-0400
TZNAME:EDT
DTSTART:20240310T070000
END:DAYLIGHT
BEGIN:STANDARD
TZOFFSETFROM:-0400
TZOFFSETTO:-0500
TZNAME:EST
DTSTART:20241103T060000
END:STANDARD
BEGIN:DAYLIGHT
TZOFFSETFROM:-0500
TZOFFSETTO:-0400
TZNAME:EDT
DTSTART:20250309T070000
END:DAYLIGHT
BEGIN:STANDARD
TZOFFSETFROM:-0400
TZOFFSETTO:-0500
TZNAME:EST
DTSTART:20251102T060000
END:STANDARD
END:VTIMEZONE
BEGIN:VTIMEZONE
TZID:UTC
BEGIN:STANDARD
TZOFFSETFROM:+0000
TZOFFSETTO:+0000
TZNAME:UTC
DTSTART:20230101T000000
END:STANDARD
END:VTIMEZONE
BEGIN:VEVENT
DTSTART;TZID=America/New_York:20241028T100000
DTEND;TZID=America/New_York:20241101T180000
DTSTAMP:20260421T121518
CREATED:20241008T174037Z
LAST-MODIFIED:20241023T192826Z
UID:10000626-1730109600-1730484000@loisaida.org
SUMMARY:Ecolibrium 2024 Exhibition
DESCRIPTION:Date: October 4 ~ December 4\, 2024 \nHours: 10 AM ~ 6 PM\, Monday ~ Friday (Sat\, Sun Closed) \nLocation: Loisaida\, Inc. Center (710 E 9th St\, New York\, NY 10009)
URL:https://loisaida.org/event/ecolibrium-2024-exhibition-4/
CATEGORIES:2024,Community Events and Resources,Event/Opening,Event/Presentation,Free Events
END:VEVENT
BEGIN:VEVENT
DTSTART;TZID=America/New_York:20241111T100000
DTEND;TZID=America/New_York:20241115T180000
DTSTAMP:20260421T121518
CREATED:20241008T174301Z
LAST-MODIFIED:20241008T174301Z
UID:10000628-1731319200-1731693600@loisaida.org
SUMMARY:Ecolibrum 2024 Exhibition
DESCRIPTION:Date: October 4 ~ December 4\, 2024 \nHours: 10 AM ~ 6 PM\, Monday ~ Friday (Sat\, Sun Closed) \nLocation: Loisaida\, Inc. Center (710 E 9th St\, New York\, NY 10009)
URL:https://loisaida.org/event/ecolibrum-2024-exhibition/
CATEGORIES:2024,Community Events and Resources,Event/Opening,Event/Presentation,Free Events
END:VEVENT
BEGIN:VEVENT
DTSTART;TZID=UTC:20241118T100000
DTEND;TZID=UTC:20241122T180000
DTSTAMP:20260421T121518
CREATED:20241008T174554Z
LAST-MODIFIED:20241008T174554Z
UID:10000629-1731924000-1732298400@loisaida.org
SUMMARY:Ecolibrium 2024 Exhibition
DESCRIPTION:Date: October 4 ~ December 4\, 2024 \nHours: 10 AM ~ 6 PM\, Monday ~ Friday (Sat\, Sun Closed) \nLocation: Loisaida\, Inc. Center (710 E 9th St\, New York\, NY 10009)
URL:https://loisaida.org/event/ecolibrium-2024-exhibition-6/
CATEGORIES:2024,Community Events and Resources,Event/Opening,Event/Presentation,Free Events
END:VEVENT
BEGIN:VEVENT
DTSTART;TZID=America/New_York:20241125T100000
DTEND;TZID=America/New_York:20241129T180000
DTSTAMP:20260421T121518
CREATED:20241008T174721Z
LAST-MODIFIED:20241008T174721Z
UID:10000630-1732528800-1732903200@loisaida.org
SUMMARY:Ecolibrium 2024 Exhibition
DESCRIPTION:Date: October 4 ~ December 4\, 2024 \nHours: 10 AM ~ 6 PM\, Monday ~ Friday (Sat\, Sun Closed) \nLocation: Loisaida\, Inc. Center (710 E 9th St\, New York\, NY 10009)
URL:https://loisaida.org/event/ecolibrium-2024-exhibition-7/
CATEGORIES:2024,Community Events and Resources,Event/Opening,Event/Presentation,Free Events
END:VEVENT
END:VCALENDAR