BEGIN:VCALENDAR
VERSION:2.0
PRODID:-//Loisaida Inc. - ECPv6.15.20//NONSGML v1.0//EN
CALSCALE:GREGORIAN
METHOD:PUBLISH
X-ORIGINAL-URL:https://loisaida.org
X-WR-CALDESC:Events for Loisaida Inc.
REFRESH-INTERVAL;VALUE=DURATION:PT1H
X-Robots-Tag:noindex
X-PUBLISHED-TTL:PT1H
BEGIN:VTIMEZONE
TZID:UTC
BEGIN:STANDARD
TZOFFSETFROM:+0000
TZOFFSETTO:+0000
TZNAME:UTC
DTSTART:20220101T000000
END:STANDARD
END:VTIMEZONE
BEGIN:VEVENT
DTSTART;TZID=UTC:20230301T130000
DTEND;TZID=UTC:20230301T160000
DTSTAMP:20260424T094329
CREATED:20230216T200944Z
LAST-MODIFIED:20230223T215839Z
UID:10000418-1677675600-1677686400@loisaida.org
SUMMARY:Seedco Resume Reviews
DESCRIPTION:Seedco New York presents Resume Reviews at their office at 513 W 207th St\, New York\, NY 10034. \nYou will have a 30 minute resume discussion. You must have your resume (paper or digital). \nDates: \nFebruary 1st\, 1 – 4pm \nFebruary 15th\, 1 – 4pm \nMarch 1st\, 1 – 4pm \nMarch 15th\, 1 – 4pm \nApril 5th\, 1 – 4pm \nApril 19th\, 1 – 4pm \n 
URL:https://loisaida.org/event/seedco-resume-reviews-3/
LOCATION:Seedco\, 513 W 207th St\, New York\, NY\, 10034\, United States
CATEGORIES:2023,Free Events,Job Opportunities and Resources
ATTACH;FMTTYPE=image/png:https://loisaida.org/wp-content/uploads/2023/02/Seedco-Resume-Reviews-English.png
ORGANIZER;CN="Seedco":MAILTO:info@seedco.org
END:VEVENT
BEGIN:VEVENT
DTSTART;TZID=UTC:20230315T130000
DTEND;TZID=UTC:20230315T160000
DTSTAMP:20260424T094329
CREATED:20230216T201014Z
LAST-MODIFIED:20230223T202504Z
UID:10000419-1678885200-1678896000@loisaida.org
SUMMARY:Seedco Resume Reviews
DESCRIPTION:Seedco New York presents Resume Reviews at their office at 513 W 207th St\, New York\, NY 10034. \nYou will have a 30 minute resume discussion. You must have your resume (paper or digital). \nDates: \nFebruary 1st\, 1 – 4pm \nFebruary 15th\, 1 – 4pm \nMarch 1st\, 1 – 4pm \nMarch 15th\, 1 – 4pm \nApril 5th\, 1 – 4pm \nApril 19th\, 1 – 4pm
URL:https://loisaida.org/event/seedco-resume-reviews-4/
LOCATION:Seedco\, 513 W 207th St\, New York\, NY\, 10034\, United States
CATEGORIES:2023,Free Events,Job Opportunities and Resources
ATTACH;FMTTYPE=image/png:https://loisaida.org/wp-content/uploads/2023/02/Seedco-Resume-Reviews-English.png
ORGANIZER;CN="Seedco":MAILTO:info@seedco.org
END:VEVENT
BEGIN:VEVENT
DTSTART;VALUE=DATE:20230318
DTEND;VALUE=DATE:20230319
DTSTAMP:20260424T094329
CREATED:20230216T185416Z
LAST-MODIFIED:20230223T220313Z
UID:10000414-1679097600-1679183999@loisaida.org
SUMMARY:DEADLINE: FABnyc Extended Open Call for Artist Proposals
DESCRIPTION:OPEN CALL\nNYC’s Lower East Side has always been shaped by the history and presence of Black communities.  Yet for most New Yorkers\, these histories are hidden or unacknowledged. \n\n\nThe creation of the Chrystie Street African Burial Ground by the African Society after the Chambers Street burial ground was closed\, the early legacies of ‘half freedom’ and Black land ownership\, the African Free Schools of the 18th century\, the mixed-race dance halls on the Bowery\, and the impact of the Draft Riots are central narratives for building a true understanding of the Lower East Side and New York City.  These stories require new and creative methods for being shared with the general public. \nAs part of this effort\, FABnyc is issuing an open call to artists to create an art installation at M’Finda Kalunga Community Garden to memorialize the Chrystie Street African Burial Ground. Learn more at: http://www.fabnyc.org/callforburialground/ \n\nDeadline for submission: Saturday\, March 18\, 2023 (midnight)
URL:https://loisaida.org/event/extended-fabnyc-open-call-for-artist-proposals-art-installation-to-memorialize-the-chrystie-street-african-burial-ground/
LOCATION:NY
CATEGORIES:2023,Artist Opportunities and Resources,Deadlines,Job Opportunities and Resources
ATTACH;FMTTYPE=image/jpeg:https://loisaida.org/wp-content/uploads/2023/02/FABnyc-Open-Call.jpeg
ORGANIZER;CN="FABnyc":MAILTO:info@fabnyc.org
END:VEVENT
BEGIN:VEVENT
DTSTART;TZID=UTC:20230320T093000
DTEND;TZID=UTC:20230320T150000
DTSTAMP:20260424T094329
CREATED:20230306T221803Z
LAST-MODIFIED:20230306T222251Z
UID:10000484-1679304600-1679324400@loisaida.org
SUMMARY:UFT/NAACP Spring '23 College & Career Fair
DESCRIPTION:The Bronx UFT\, The NAACP and the NYC Department of Education are partnering to host the annual UFT citywide spring college and career fair for high school students\, parents and counselors. \nAdmissions recruiters from over 100 colleges and universities will be on hand to meet with students applying to postsecondary institutions in the fall of the 2023-24 school year. Additionally\, organizations that provide ancillary support services will be present to provide information for students and counselors. \nFor more information on how or where to register for this FREE event\, please contact James Rodriguez at 866-509-5921 or submit your questions to Jrodrig32@schools.nyc.gov or to Nicholas Cruz at Ncruz@uft.org
URL:https://loisaida.org/event/uft-naacp-spring-23-college-career-fair/
LOCATION:UFT Bronx Borough Office\, 2500 Halsey Street\, Bronx\, NY\, 10461\, United States
CATEGORIES:2023,Free Events,Job Opportunities and Resources
ATTACH;FMTTYPE=image/png:https://loisaida.org/wp-content/uploads/2023/03/UFT-NAACP-Spring-College-Fair-2023.png
END:VEVENT
BEGIN:VEVENT
DTSTART;VALUE=DATE:20230327
DTEND;VALUE=DATE:20230328
DTSTAMP:20260424T094329
CREATED:20230302T202837Z
LAST-MODIFIED:20230302T202837Z
UID:10000473-1679875200-1679961599@loisaida.org
SUMMARY:Hospitality Pathways FOH Training (Interview)
DESCRIPTION:Interested in joining the hospitality industry? Apply today and join Hospitality Pathways 4 week training program! Interviews will be held on March 27th and March 29th. \nApply for an interview here.
URL:https://loisaida.org/event/hospitality-pathways-foh-training-interview/
LOCATION:NY
CATEGORIES:2023,Job Opportunities and Resources
ATTACH;FMTTYPE=image/png:https://loisaida.org/wp-content/uploads/2023/03/FOH-Flyer-April-2023.png
ORGANIZER;CN="Hospitality Pathways":MAILTO:hospitalitypathways@gmail.com
END:VEVENT
BEGIN:VEVENT
DTSTART;VALUE=DATE:20230329
DTEND;VALUE=DATE:20230330
DTSTAMP:20260424T094329
CREATED:20230302T202911Z
LAST-MODIFIED:20230302T202911Z
UID:10000474-1680048000-1680134399@loisaida.org
SUMMARY:Hospitality Pathways FOH Training (Interview)
DESCRIPTION:Interested in joining the hospitality industry? Apply today and join Hospitality Pathways 4 week training program! Interviews will be held on March 27th and March 29th. \nApply for an interview here.
URL:https://loisaida.org/event/hospitality-pathways-foh-training-interview-2/
LOCATION:NY
CATEGORIES:2023,Job Opportunities and Resources
ATTACH;FMTTYPE=image/png:https://loisaida.org/wp-content/uploads/2023/03/FOH-Flyer-April-2023.png
ORGANIZER;CN="Hospitality Pathways":MAILTO:hospitalitypathways@gmail.com
END:VEVENT
BEGIN:VEVENT
DTSTART;TZID=UTC:20230331T180000
DTEND;TZID=UTC:20230331T210000
DTSTAMP:20260424T094329
CREATED:20230320T163034Z
LAST-MODIFIED:20230320T163034Z
UID:10000487-1680285600-1680296400@loisaida.org
SUMMARY:Social Work Summit
DESCRIPTION:Latinx/e in Social Work in collaboration with Latinx Social Work Student Organization at NYU will be hosting a Social Work Summit\, this March 31\, 2023\, from 6 pm to 9 pm at the Multi-Purpose Room- Palladium at NYU. \nThe purpose of this event is to showcase and honor the voices of Volume 1 authors\, who started this movement by leading by example and sharing their narratives. Their vulnerability in telling their story has ensured that many of us feel seen and heard\, and know we are not alone. \nDuring this time they will connect students to their work around book series so they feel supported and connected\, and continue to build community. They also want to support organizations’ efforts in connecting with social workers that are fit to assist the communities they serve.
URL:https://loisaida.org/event/social-work-summit/
LOCATION:Palladium Residence Hall at NYU (Multi-Purpose Room 326)\, 140 E 14th Street\, New York\, NY\, 10003\, United States
CATEGORIES:2023,Free Events,Job Opportunities and Resources
ATTACH;FMTTYPE=image/png:https://loisaida.org/wp-content/uploads/2023/03/unnamed.png
END:VEVENT
END:VCALENDAR