BEGIN:VCALENDAR
VERSION:2.0
PRODID:-//Loisaida Inc. - ECPv6.15.20//NONSGML v1.0//EN
CALSCALE:GREGORIAN
METHOD:PUBLISH
X-ORIGINAL-URL:https://loisaida.org
X-WR-CALDESC:Events for Loisaida Inc.
REFRESH-INTERVAL;VALUE=DURATION:PT1H
X-Robots-Tag:noindex
X-PUBLISHED-TTL:PT1H
BEGIN:VTIMEZONE
TZID:America/New_York
BEGIN:DAYLIGHT
TZOFFSETFROM:-0500
TZOFFSETTO:-0400
TZNAME:EDT
DTSTART:20240310T070000
END:DAYLIGHT
BEGIN:STANDARD
TZOFFSETFROM:-0400
TZOFFSETTO:-0500
TZNAME:EST
DTSTART:20241103T060000
END:STANDARD
BEGIN:DAYLIGHT
TZOFFSETFROM:-0500
TZOFFSETTO:-0400
TZNAME:EDT
DTSTART:20250309T070000
END:DAYLIGHT
BEGIN:STANDARD
TZOFFSETFROM:-0400
TZOFFSETTO:-0500
TZNAME:EST
DTSTART:20251102T060000
END:STANDARD
BEGIN:DAYLIGHT
TZOFFSETFROM:-0500
TZOFFSETTO:-0400
TZNAME:EDT
DTSTART:20260308T070000
END:DAYLIGHT
BEGIN:STANDARD
TZOFFSETFROM:-0400
TZOFFSETTO:-0500
TZNAME:EST
DTSTART:20261101T060000
END:STANDARD
END:VTIMEZONE
BEGIN:VTIMEZONE
TZID:UTC
BEGIN:STANDARD
TZOFFSETFROM:+0000
TZOFFSETTO:+0000
TZNAME:UTC
DTSTART:20240101T000000
END:STANDARD
END:VTIMEZONE
BEGIN:VEVENT
DTSTART;TZID=America/New_York:20250106T120000
DTEND;TZID=America/New_York:20250106T170000
DTSTAMP:20260423T090223
CREATED:20241228T053736Z
LAST-MODIFIED:20250101T015738Z
UID:10000663-1736164800-1736182800@loisaida.org
SUMMARY:Angie Hernandez Gifts of the Magi at the Loisaida Center
DESCRIPTION:Location: Loisaida Center – 710 East 9th Street\, New York\, NY 10009\nDate: January\, 6th\, 2025\nDescription: Three Kings Day is celebrated on January 6 throughout the Spanish-speaking world to mark the birth of Jesus and the gifts brought to the child by the Magi after following the star of Bethlehem\, which guided them through their journey. This tradition continues\, especially in the Loisaida community of Manhattan\, by the Puerto Rican families. In 2000\, with the support and encouragement of Carlos “Chino” Garcia and CHARAS\, María de los Angeles “Angie” Hernández Osorio\, an indefatigable advocate for Boricua culture\, education\, and the arts\, presented her first production of “The Gifts of the Magi.” The play was originally a longer theatrical piece showcased at the Henry Street Playhouse\, titled; “Peace/La Paz\,” co-written with Nuyorican poet Tato Laviera in the late ’80s. It has taken on various forms since its inception and evolved to a shorter\, more musical version\, produced and directed by Angie’s son\, musician\, and current board member of CHARAS\, David “Daso” Soto\, and presented at the Loisaida Center. \nThis year’s version of Angie Hernandez’ Gifts of the Magi will be presented exclusively to local children at the Loisaida Center on January 6\, 2025\, to celebrate the power of love\, family\, hope\, and the joy of childhood. \nCast: \n3 Kings: Kiki Cotto\, Marc Reign\, David Hernandez \nAstronomer: Ivan Calcano\n\nHerod: David DāSo Soto \nMary: Caridad De La Luz\nJoseph: Eric Diaz\n3 Dancers CAMELS / VEJIGANTES: Casidy\, Skylar & Sasha\n\nYoung Jesus: Pending\nGrown Jesus: Pending\n\n\n(*To be updated.)
URL:https://loisaida.org/event/angie-hernandez-gifts-of-the-magi-at-the-loisaida-center/
LOCATION:The Loisaida Inc. Center\, 710 East 9th Street\, New York\, NY\,  10009\, United States
CATEGORIES:2025,Community Events and Resources,Event/Presentation
ATTACH;FMTTYPE=image/png:https://loisaida.org/wp-content/uploads/2025/01/gifts-of-the-magi-2025-flier2.png
END:VEVENT
BEGIN:VEVENT
DTSTART;TZID=UTC:20250111T080000
DTEND;TZID=UTC:20250111T170000
DTSTAMP:20260423T090223
CREATED:20250111T043928Z
LAST-MODIFIED:20250111T043948Z
UID:10000664-1736582400-1736614800@loisaida.org
SUMMARY:Nuyorican Poets Cafe Open Mic Hosted by Solpreme
DESCRIPTION:  \n\nJoin the Nuyorican Poets Cafe’s off-site Open Mic at the Loisaida\, Inc. Center!\n\nIn-person and on-stage at the Loisaida Center\, 710 East 9th Street (between Avenues C & D)\, Manhattan\, NY 10009.\n** On the first Wednesday of each month. **\n** Doors open at 6 P.M. **\n** Open Mic is from 6:30 to 8:30 P.M. **\nAll art forms are welcome: poetry\, short stories\, comedy\, monologues\, songs (Note: ORIGINAL songs only). 4 minutes max. per performer. If you’d like to add an original audio track to your performance\, please email the .mp3 or .wav file or the link to your online audio URL to chris@loisaida.org in advance.\nPlease note: all performances are live-streamed on Loisaida’s and our Nuyorican Poets Cafe’s YouTube channels (and the recording is available to watch on our YouTube channel right thereafter).\n\nTickets:\n$10 (plus online fee) for performers or audience/viewing (same price).\n$10 (at the door\, via credit card or Zelle or Apple Pay\, no cash)\n\n\nGet Tickets
URL:https://loisaida.org/event/nuyorican-poets-cafe-open-mic-hosted-by-solpreme/
LOCATION:NY
CATEGORIES:2025,Community Events and Resources,Event/Opening,Event/Presentation
ATTACH;FMTTYPE=image/png:https://loisaida.org/wp-content/uploads/2025/01/WOW-Nuyorican-Poets-Cafe-for-Jan-22-2025-1.png
END:VEVENT
END:VCALENDAR