BEGIN:VCALENDAR
VERSION:2.0
PRODID:-//Loisaida Inc. - ECPv6.15.20//NONSGML v1.0//EN
CALSCALE:GREGORIAN
METHOD:PUBLISH
X-WR-CALNAME:Loisaida Inc.
X-ORIGINAL-URL:https://loisaida.org
X-WR-CALDESC:Events for Loisaida Inc.
REFRESH-INTERVAL;VALUE=DURATION:PT1H
X-Robots-Tag:noindex
X-PUBLISHED-TTL:PT1H
BEGIN:VTIMEZONE
TZID:UTC
BEGIN:STANDARD
TZOFFSETFROM:+0000
TZOFFSETTO:+0000
TZNAME:UTC
DTSTART:20240101T000000
END:STANDARD
END:VTIMEZONE
BEGIN:VEVENT
DTSTART;TZID=UTC:20251216T180000
DTEND;TZID=UTC:20251216T210000
DTSTAMP:20260421T110249
CREATED:20251211T151850Z
LAST-MODIFIED:20251211T151850Z
UID:10000815-1765908000-1765918800@loisaida.org
SUMMARY:American Boricua Photography Exhibition Opening Reception
DESCRIPTION:Loisaida Center welcomes you to the opening reception of the current photography exhibition\, American Boricua. \nAmerican Boricua celebrates the Puerto Rican Diaspora throughout North America through the lens of photographer\, Wanda Benvenutti. \nWanda Benvenutti is a freelance photojournalist\, cultural worker\, writer\, model and proud Boricua with roots in Salinas\, Puerto Rico. She is currently working on the compilation of her first book\, American Boricua\, the first visual history of the Puerto Rican diaspora in all 50  of the United States. \n  \nJoin us on Tuesday\, December 16th as we celebrate the opening. There will be light refreshments and a discussion on the importance of heritage and cultural preservation with: \nRanald Woodaman- Assistant Director of Exhibition Development at the Smithsonian National Museum of the American Latino.
URL:https://loisaida.org/event/american-boricua-photography-exhibition-opening-reception/
LOCATION:The Loisaida Inc. Center\, 710 East 9th Street\, New York\, NY\,  10009\, United States
ATTACH;FMTTYPE=application/pdf:https://loisaida.org/wp-content/uploads/2025/12/Copy-of-AMERICAN-BORICUA-EXHIBITION-1-1.pdf
ORGANIZER;CN="The Loisaida Inc. Center":MAILTO:info@loisaida.org
END:VEVENT
END:VCALENDAR